Workbook

Sheet 試算（１年目）
H1: =IF(I1="","","対象年度＝") -> 対象年度＝ | I1: =IF($C$3="","",INDEX(掛金率等!$B:$B,MATCH(Q1,掛金率等!$A:$A,0))) -> 令和8 | J1: =IF(A3="","",W3) | K1: =IF(B3="","",X3) -> 加入年度 | Q1: =IF(C3="","",Y3) -> 2026
H2: 基礎となる 標準報酬月額 | I2: 任意継続掛金率 (‰) | J2: 介護掛金率 (‰) | K2: 子ども子育て支援金 (‰) | Q2: =IF(C4="","",Y4) -> 0 | S2: 退職日 | T2: =IF($C$3="","",$C$3) -> 46234 | U2: =IF(T2="","",YEAR(T2)) -> 2026 | V2: =IF(T2="","",MONTH(T2)) -> 7 | W2: → | X2: 退職年度 | Y2: =IF($C$3="","",IF(V2<4,U2-1,U2)) -> 2026
B3: 退職日 | C3: 46234 | H3: =IF(OR($C$3="",$C$5=""),"",IF(T4<T5,T4,T5)) -> 220000 | I3: =IF(OR($C$3="",$C$5=""),"",INDEX(掛金率等!D:D,MATCH($Y$3,掛金率等!$A:$A,0))) -> 93.2 | J3: =IF(OR($C$3="",$C$5=""),"",INDEX(掛金率等!E:E,MATCH($Y$3,掛金率等!$A:$A,0))) -> 15.76 | K3: =IF(OR($C$3="",$C$5=""),"",INDEX(掛金率等!F:F,MATCH($Y$3,掛金率等!$A:$A,0))) -> 2.3 | Q3: =IF(C5="","",Y5) -> 0 | S3: 資格喪失日(任継取得日) | T3: =IF($C$3="","",$T$2+1) -> 46235 | U3: =IF(T3="","",YEAR(T3)) -> 2026 | V3: =IF(T3="","",MONTH(T3)) -> 8 | W3: → | X3: 加入年度 | Y3: =IF($C$3="","",IF(V3<4,U3-1,U3)) -> 2026 | Z3: =IF(T3="","",MONTH(T3)) -> 8
B4: 生年月日 | C4: 23626 | H4: ※基礎となる標準報酬月額は、退職月の標準報酬月額と当組合の平均標準報酬月 | L4: =IF(C6="","",Y6) | S4: 退職月の標準報酬月額 | T4: =IF($C$5="","",$C$5) -> 220000
B5: 退職月の標準報酬月額 | C5: 220000 | H5: 額のいずれか低い額が適用されます。 | L5: =IF(C7="","",Y7) | S5: 平均標準報酬月額（１年目） | T5: =IF(Y3="","",INDEX(掛金率等!C:C,MATCH(Y3,掛金率等!A:A,0))) -> 410000
B6: ↑ | S6: 前納対象月 | T6: =IF(V3="","",INDEX(掛金率等!N:N,MATCH(V3,掛金率等!M:M,0))) -> 7 | X6: 【口座振替】 | AA6: 年齢 | AB6: 標準報酬月額 | AC6: 短期 | AD6: 介護 | AE6: 子ども子育て支援金 | AF6: 合計
B7: 退職日・退職月の標準報酬月額を入力願います。 | H7: 【口座振替の場合】 | S7: 生年月日 | T7: =IF(C4="","",C4) -> 23626 | X7: =IF(Y7="","",$Y$3) -> 2026 | Y7: =IF(Z3="","",Z3) -> 8 | Z7: =IF(Y7="","",VALUE(X7&"/"&Y7&"/1")) -> 46235 | AA7: =IF(OR($C$3="",$C$5="",$C$4="",Y7=""),"",DATEDIF($T$7,Z7,"Y")) -> 61 | AB7: =IF(Y7="","",$H$3) -> 220000 | AC7: =IF(AA7="","",IF(AA7>=75,0,ROUNDDOWN(AB7*$I$3/1000,0))) -> 20504 | AD7: =IF(AA7="","",IF(OR(AA7<40,AA7>=65),0,ROUNDDOWN(AB7*$J$3/1000,0))) -> 3467 | AE7: =IF(AA7="","",IF(AA7>=75,0,ROUNDDOWN(AB7*$K$3/1000,0))) -> 506 | AF7: =SUM(AC7:AE7) -> 24477
B8: 退職月の標準報酬月額は、給与明細等をご確認 | H8: 月 | I8: 任意継続掛金 | J8: 介護掛金 | K8: 子ども子育て支援金 | L8: 合計 | X8: =IF(Y8="","",IF(Y7=12,X7+1,X7)) -> 2026 | Y8: =IF(Y7="","",IF(Y7=3,"",IF(Y7=12,1,Y7+1))) -> 9 | Z8: =IF(Y8="","",VALUE(X8&"/"&Y8&"/1")) -> 46266 | AA8: =IF(OR($C$3="",$C$5="",$C$4="",Y8=""),"",DATEDIF($T$7,Z8,"Y")) -> 61 | AB8: =IF(Y8="","",$H$3) -> 220000 | AC8: =IF(AA8="","",IF(AA8>=75,0,ROUNDDOWN(AB8*$I$3/1000,0))) -> 20504 | AD8: =IF(AA8="","",IF(OR(AA8<40,AA8>=65),0,ROUNDDOWN(AB8*$J$3/1000,0))) -> 3467 | AE8: =IF(AA8="","",IF(AA8>=75,0,ROUNDDOWN(AB8*$K$3/1000,0))) -> 506 | AF8: =SUM(AC8:AE8) -> 24477
B9: ください。 | H9: =Y7 -> 8 | I9: =IF(AC7="","",AC7) -> 20504 | J9: =IF(AD7="","",AD7) -> 3467 | K9: =IF(AE7="","",AE7) -> 506 | L9: =IF(OR($C$3="",$C$5="",AF7=""),"",AF7) -> 24477 | X9: =IF(Y9="","",IF(Y8=12,X8+1,X8)) -> 2026 | Y9: =IF(Y8="","",IF(Y8=3,"",IF(Y8=12,1,Y8+1))) -> 10 | Z9: =IF(Y9="","",VALUE(X9&"/"&Y9&"/1")) -> 46296 | AA9: =IF(OR($C$3="",$C$5="",$C$4="",Y9=""),"",DATEDIF($T$7,Z9,"Y")) -> 62 | AB9: =IF(Y9="","",$H$3) -> 220000 | AC9: =IF(AA9="","",IF(AA9>=75,0,ROUNDDOWN(AB9*$I$3/1000,0))) -> 20504 | AD9: =IF(AA9="","",IF(OR(AA9<40,AA9>=65),0,ROUNDDOWN(AB9*$J$3/1000,0))) -> 3467 | AE9: =IF(AA9="","",IF(AA9>=75,0,ROUNDDOWN(AB9*$K$3/1000,0))) -> 506 | AF9: =SUM(AC9:AE9) -> 24477
H10: =Y8 -> 9 | I10: =IF(AC8="","",AC8) -> 20504 | J10: =IF(AD8="","",AD8) -> 3467 | K10: =IF(AE8="","",AE8) -> 506 | L10: =IF(OR($C$3="",$C$5="",AF8=""),"",AF8) -> 24477 | X10: =IF(Y10="","",IF(Y9=12,X9+1,X9)) -> 2026 | Y10: =IF(Y9="","",IF(Y9=3,"",IF(Y9=12,1,Y9+1))) -> 11 | Z10: =IF(Y10="","",VALUE(X10&"/"&Y10&"/1")) -> 46327 | AA10: =IF(OR($C$3="",$C$5="",$C$4="",Y10=""),"",DATEDIF($T$7,Z10,"Y")) -> 62 | AB10: =IF(Y10="","",$H$3) -> 220000 | AC10: =IF(AA10="","",IF(AA10>=75,0,ROUNDDOWN(AB10*$I$3/1000,0))) -> 20504 | AD10: =IF(AA10="","",IF(OR(AA10<40,AA10>=65),0,ROUNDDOWN(AB10*$J$3/1000,0))) -> 3467 | AE10: =IF(AA10="","",IF(AA10>=75,0,ROUNDDOWN(AB10*$K$3/1000,0))) -> 506 | AF10: =SUM(AC10:AE10) -> 24477
B11: このシートは、これから任意継続組合員制度への | H11: =Y9 -> 10 | I11: =IF(AC9="","",AC9) -> 20504 | J11: =IF(AD9="","",AD9) -> 3467 | K11: =IF(AE9="","",AE9) -> 506 | L11: =IF(OR($C$3="",$C$5="",AF9=""),"",AF9) -> 24477 | X11: =IF(Y11="","",IF(Y10=12,X10+1,X10)) -> 2026 | Y11: =IF(Y10="","",IF(Y10=3,"",IF(Y10=12,1,Y10+1))) -> 12 | Z11: =IF(Y11="","",VALUE(X11&"/"&Y11&"/1")) -> 46357 | AA11: =IF(OR($C$3="",$C$5="",$C$4="",Y11=""),"",DATEDIF($T$7,Z11,"Y")) -> 62 | AB11: =IF(Y11="","",$H$3) -> 220000 | AC11: =IF(AA11="","",IF(AA11>=75,0,ROUNDDOWN(AB11*$I$3/1000,0))) -> 20504 | AD11: =IF(AA11="","",IF(OR(AA11<40,AA11>=65),0,ROUNDDOWN(AB11*$J$3/1000,0))) -> 3467 | AE11: =IF(AA11="","",IF(AA11>=75,0,ROUNDDOWN(AB11*$K$3/1000,0))) -> 506 | AF11: =SUM(AC11:AE11) -> 24477
B12: 加入を希望される方が、掛金の試算をするための | H12: =Y10 -> 11 | I12: =IF(AC10="","",AC10) -> 20504 | J12: =IF(AD10="","",AD10) -> 3467 | K12: =IF(AE10="","",AE10) -> 506 | L12: =IF(OR($C$3="",$C$5="",AF10=""),"",AF10) -> 24477 | X12: =IF(Y12="","",IF(Y11=12,X11+1,X11)) -> 2027 | Y12: =IF(Y11="","",IF(Y11=3,"",IF(Y11=12,1,Y11+1))) -> 1 | Z12: =IF(Y12="","",VALUE(X12&"/"&Y12&"/1")) -> 46388 | AA12: =IF(OR($C$3="",$C$5="",$C$4="",Y12=""),"",DATEDIF($T$7,Z12,"Y")) -> 62 | AB12: =IF(Y12="","",$H$3) -> 220000 | AC12: =IF(AA12="","",IF(AA12>=75,0,ROUNDDOWN(AB12*$I$3/1000,0))) -> 20504 | AD12: =IF(AA12="","",IF(OR(AA12<40,AA12>=65),0,ROUNDDOWN(AB12*$J$3/1000,0))) -> 3467 | AE12: =IF(AA12="","",IF(AA12>=75,0,ROUNDDOWN(AB12*$K$3/1000,0))) -> 506 | AF12: =SUM(AC12:AE12) -> 24477
B13: シートです。 | H13: =Y11 -> 12 | I13: =IF(AC11="","",AC11) -> 20504 | J13: =IF(AD11="","",AD11) -> 3467 | K13: =IF(AE11="","",AE11) -> 506 | L13: =IF(OR($C$3="",$C$5="",AF11=""),"",AF11) -> 24477 | X13: =IF(Y13="","",IF(Y12=12,X12+1,X12)) -> 2027 | Y13: =IF(Y12="","",IF(Y12=3,"",IF(Y12=12,1,Y12+1))) -> 2 | Z13: =IF(Y13="","",VALUE(X13&"/"&Y13&"/1")) -> 46419 | AA13: =IF(OR($C$3="",$C$5="",$C$4="",Y13=""),"",DATEDIF($T$7,Z13,"Y")) -> 62 | AB13: =IF(Y13="","",$H$3) -> 220000 | AC13: =IF(AA13="","",IF(AA13>=75,0,ROUNDDOWN(AB13*$I$3/1000,0))) -> 20504 | AD13: =IF(AA13="","",IF(OR(AA13<40,AA13>=65),0,ROUNDDOWN(AB13*$J$3/1000,0))) -> 3467 | AE13: =IF(AA13="","",IF(AA13>=75,0,ROUNDDOWN(AB13*$K$3/1000,0))) -> 506 | AF13: =SUM(AC13:AE13) -> 24477
B14: 前年度から加入されている方が２年目の掛金を | H14: =Y12 -> 1 | I14: =IF(AC12="","",AC12) -> 20504 | J14: =IF(AD12="","",AD12) -> 3467 | K14: =IF(AE12="","",AE12) -> 506 | L14: =IF(OR($C$3="",$C$5="",AF12=""),"",AF12) -> 24477 | X14: =IF(Y14="","",IF(Y13=12,X13+1,X13)) -> 2027 | Y14: =IF(Y13="","",IF(Y13=3,"",IF(Y13=12,1,Y13+1))) -> 3 | Z14: =IF(Y14="","",VALUE(X14&"/"&Y14&"/1")) -> 46447 | AA14: =IF(OR($C$3="",$C$5="",$C$4="",Y14=""),"",DATEDIF($T$7,Z14,"Y")) -> 62 | AB14: =IF(Y14="","",$H$3) -> 220000 | AC14: =IF(AA14="","",IF(AA14>=75,0,ROUNDDOWN(AB14*$I$3/1000,0))) -> 20504 | AD14: =IF(AA14="","",IF(OR(AA14<40,AA14>=65),0,ROUNDDOWN(AB14*$J$3/1000,0))) -> 3467 | AE14: =IF(AA14="","",IF(AA14>=75,0,ROUNDDOWN(AB14*$K$3/1000,0))) -> 506 | AF14: =SUM(AC14:AE14) -> 24477
B15: 確認したい場合は、試算（２年目）を | H15: =Y13 -> 2 | I15: =IF(AC13="","",AC13) -> 20504 | J15: =IF(AD13="","",AD13) -> 3467 | K15: =IF(AE13="","",AE13) -> 506 | L15: =IF(OR($C$3="",$C$5="",AF13=""),"",AF13) -> 24477 | X15: =IF(Y15="","",IF(Y14=12,X14+1,X14)) | Y15: =IF(Y14="","",IF(Y14=3,"",IF(Y14=12,1,Y14+1))) | Z15: =IF(Y15="","",VALUE(X15&"/"&Y15&"/1")) | AA15: =IF(OR($C$3="",$C$5="",$C$4="",Y15=""),"",DATEDIF($T$7,Z15,"Y")) | AB15: =IF(Y15="","",$H$3) | AC15: =IF(AA15="","",IF(AA15>=75,0,ROUNDDOWN(AB15*$I$3/1000,0))) | AD15: =IF(AA15="","",IF(OR(AA15<40,AA15>=65),0,ROUNDDOWN(AB15*$J$3/1000,0))) | AE15: =IF(AA15="","",IF(AA15>=75,0,ROUNDDOWN(AB15*$K$3/1000,0))) | AF15: =SUM(AC15:AE15) -> 0
B16: ご利用ください。 | H16: =Y14 -> 3 | I16: =IF(AC14="","",AC14) -> 20504 | J16: =IF(AD14="","",AD14) -> 3467 | K16: =IF(AE14="","",AE14) -> 506 | L16: =IF(OR($C$3="",$C$5="",AF14=""),"",AF14) -> 24477 | X16: =IF(Y16="","",IF(Y15=12,X15+1,X15)) | Y16: =IF(Y15="","",IF(Y15=3,"",IF(Y15=12,1,Y15+1))) | Z16: =IF(Y16="","",VALUE(X16&"/"&Y16&"/1")) | AA16: =IF(OR($C$3="",$C$5="",$C$4="",Y16=""),"",DATEDIF($T$7,Z16,"Y")) | AB16: =IF(Y16="","",$H$3) | AC16: =IF(AA16="","",IF(AA16>=75,0,ROUNDDOWN(AB16*$I$3/1000,0))) | AD16: =IF(AA16="","",IF(OR(AA16<40,AA16>=65),0,ROUNDDOWN(AB16*$J$3/1000,0))) | AE16: =IF(AA16="","",IF(AA16>=75,0,ROUNDDOWN(AB16*$K$3/1000,0))) | AF16: =SUM(AC16:AE16) -> 0
H17: =Y15 | I17: =IF(AC15="","",AC15) | J17: =IF(AD15="","",AD15) | K17: =IF(AE15="","",AE15) | L17: =IF(OR($C$3="",$C$5="",AF15=""),"",AF15) -> 0 | X17: =IF(Y17="","",IF(Y16=12,X16+1,X16)) | Y17: =IF(Y16="","",IF(Y16=3,"",IF(Y16=12,1,Y16+1))) | Z17: =IF(Y17="","",VALUE(X17&"/"&Y17&"/1")) | AA17: =IF(OR($C$3="",$C$5="",$C$4="",Y17=""),"",DATEDIF($T$7,Z17,"Y")) | AB17: =IF(Y17="","",$H$3) | AC17: =IF(AA17="","",IF(AA17>=75,0,ROUNDDOWN(AB17*$I$3/1000,0))) | AD17: =IF(AA17="","",IF(OR(AA17<40,AA17>=65),0,ROUNDDOWN(AB17*$J$3/1000,0))) | AE17: =IF(AA17="","",IF(AA17>=75,0,ROUNDDOWN(AB17*$K$3/1000,0))) | AF17: =SUM(AC17:AE17) -> 0
H18: =Y16 | I18: =IF(AC16="","",AC16) | J18: =IF(AD16="","",AD16) | K18: =IF(AE16="","",AE16) | L18: =IF(OR($C$3="",$C$5="",AF16=""),"",AF16) -> 0 | X18: =IF(Y18="","",IF(Y17=12,X17+1,X17)) | Y18: =IF(Y17="","",IF(Y17=3,"",IF(Y17=12,1,Y17+1))) | Z18: =IF(Y18="","",VALUE(X18&"/"&Y18&"/1")) | AA18: =IF(OR($C$3="",$C$5="",$C$4="",Y18=""),"",DATEDIF($T$7,Z18,"Y")) | AB18: =IF(Y18="","",$H$3) | AC18: =IF(AA18="","",IF(AA18>=75,0,ROUNDDOWN(AB18*$I$3/1000,0))) | AD18: =IF(AA18="","",IF(OR(AA18<40,AA18>=65),0,ROUNDDOWN(AB18*$J$3/1000,0))) | AE18: =IF(AA18="","",IF(AA18>=75,0,ROUNDDOWN(AB18*$K$3/1000,0))) | AF18: =SUM(AC18:AE18) -> 0
H19: =Y17 | I19: =IF(AC17="","",AC17) | J19: =IF(AD17="","",AD17) | K19: =IF(AE17="","",AE17) | L19: =IF(OR($C$3="",$C$5="",AF17=""),"",AF17) -> 0 | AC19: =SUM(AC7:AC18) -> 164032 | AD19: =SUM(AD7:AD18) -> 27736 | AE19: =SUM(AE7:AE18) -> 4048 | AF19: =SUM(AF7:AF18) -> 195816
H20: =Y18 | I20: =IF(AC18="","",AC18) | J20: =IF(AD18="","",AD18) | K20: =IF(AE18="","",AE18) | L20: =IF(OR($C$3="",$C$5="",AF18=""),"",AF18) -> 0 | AC20: =IF(OR($C$3="",$C$5="",SUM(AC7:AC18)=0),0,AC19/AC22) -> 20504 | AD20: =IF(OR($C$3="",$C$5="",SUM(AD7:AD18)=0),0,AD19/AD22) -> 3467 | AE20: =IF(OR($C$3="",$C$5="",SUM(AE7:AE18)=0),0,AE19/AE22) -> 506
H21: 合計 | I21: =IF(OR($C$3="",$C$5=""),"",AC19) -> 164032 | J21: =IF(OR($C$3="",$C$5=""),"",AD19) -> 27736 | K21: =IF(OR($C$3="",$C$5=""),"",AE19) -> 4048 | L21: =IF(OR($C$3="",$C$5=""),"",AF19) -> 195816 | AC21: =COUNTIF(AC8:AC18,">0") -> 7 | AD21: =COUNTIF(AD8:AD18,">0") -> 7 | AE21: =COUNTIF(AE8:AE18,">0") -> 7
H22: ※口座振替を選択された場合でも、最初の２か月分は指定の口座にお振込みいただきます。 | AC22: =COUNTIF(AC7:AC18,">0") -> 8 | AD22: =COUNTIF(AD7:AD18,">0") -> 8 | AE22: =COUNTIF(AE7:AE18,">0") -> 8
H23: ３か月目以降は、上記額（月額の合計）を毎月ご指定の口座から引き落としします。 | X23: 【一括納付（１年目）】
X24: 初月分 | AC24: =IF(AC20="","",AC20) -> 20504 | AD24: =IF(AD20="","",AD20) -> 3467 | AE24: =IF(AE20="","",AE20) -> 506 | AF24: =SUM(AC24:AE24) -> 24477
H25: 【一括納付の場合】 | X25: ２月目以降 | AC25: =IF($AC24="","",ROUND(AC24*INDEX(掛金率等!$I:$I,MATCH(AC21,掛金率等!$H:$H,0)),0)) -> 141667 | AD25: =IF($AC24="","",ROUND(AD24*INDEX(掛金率等!$I:$I,MATCH(AD21,掛金率等!$H:$H,0)),0)) -> 23954 | AE25: =IF($AC24="","",ROUND(AE24*INDEX(掛金率等!$I:$I,MATCH(AE21,掛金率等!$H:$H,0)),0)) -> 3496 | AF25: =SUM(AC25:AE25) -> 169117
I26: 任意継続掛金 | J26: 介護掛金 | K26: 子ども子育て支援金 | L26: 合計
H27: 初月分 | I27: =IF(OR($C$3="",$C$5="",AC24=""),"",AC24) -> 20504 | J27: =IF(OR($C$3="",$C$5="",AD24=""),"",AD24) -> 3467 | K27: =IF(OR($C$3="",$C$5="",AE24=""),"",AE24) -> 506 | L27: =IF(OR($C$3="",$C$5="",AF24=""),"",AF24) -> 24477
H28: 前納分 | I28: =IF(OR($C$3="",$C$5="",AC25=""),"",AC25) -> 141667 | J28: =IF(OR($C$3="",$C$5="",AD25=""),"",AD25) -> 23954 | K28: =IF(OR($C$3="",$C$5="",AE25=""),"",AE25) -> 3496 | L28: =IF(OR($C$3="",$C$5="",AF25=""),"",AF25) -> 169117
H29: 年額 | I29: =IF(OR($C$3="",$C$5=""),"",SUM(I27:I28)) -> 162171 | J29: =IF(OR($C$3="",$C$5=""),"",SUM(J27:J28)) -> 27421 | K29: =IF(OR($C$3="",$C$5=""),"",SUM(K27:K28)) -> 4002 | L29: =IF(OR($C$3="",$C$5=""),"",SUM(L27:L28)) -> 193594
H30: 前納対象月数 | I30: =IF(OR($C$3="",$C$5="",AC21="",AC21=0),"",AC21) -> 7 | J30: =IF(OR($C$3="",$C$5="",AD21="",AD21=0),"",AD21) -> 7 | K30: =IF(OR($C$3="",$C$5="",AE21="",AE21=0),"",AE21) -> 7 | L30: =IF(OR($C$3="",$C$5="",AF21=""),"",AF21)
H31: ※今年度加入された方の一括納付額で。（前年度中に加入された方は【一括納付（２年目）の場合）】を御確認ください。
H32: ※２か月目以降、割引率が適用されます。 年額（合計）を一括納付していただきます。

Sheet 試算（２年目）
H1: =IF(I1="","","対象年度＝") -> 対象年度＝ | I1: =IF($C$3="","",INDEX(掛金率等!$B:$B,MATCH(Q1,掛金率等!$A:$A,0))) -> 令和9 | J1: =IF(A3="","",W3) | K1: =IF(B3="","",X3) -> 対象年度 | Q1: =IF(C3="","",Y3) -> 2027
H2: 基礎となる 標準報酬月額 | I2: 任意継続掛金率 (‰) | J2: 介護掛金率 (‰) | K2: 子ども子育て支援金 (‰) | Q2: =IF(C4="","",Y4) -> 0 | S2: 退職日 | T2: =IF($C$3="","",$C$3) -> 46203 | U2: =IF(T2="","",YEAR(T2)) -> 2026 | V2: =IF(T2="","",MONTH(T2)) -> 6 | W2: → | X2: 退職年度 | Y2: =IF($C$3="","",IF(V2<4,U2-1,U2)) -> 2026 | Z2: → | AA2: 対象年度 | AB2: =Y2+1 -> 2027
B3: 退職日 | C3: 46203 | H3: =IF(OR($C$3="",$C$5=""),"",IF(T4<T5,T4,T5)) -> 410000 | I3: =IF(OR($C$3="",$C$5=""),"",IF(INDEX(掛金率等!D:D,MATCH($Y$3,掛金率等!$A:$A,0))=0,INDEX(掛金率等!D:D,MATCH($Y$2,掛金率等!$A:$A,0)),INDEX(掛金率等!D:D,MATCH($Y$3,掛金率等!$A:$A,0)))) -> 93.2 | J3: =IF(OR($C$3="",$C$5=""),"",IF(INDEX(掛金率等!E:E,MATCH($Y$3,掛金率等!$A:$A,0))=0,INDEX(掛金率等!E:E,MATCH($Y$2,掛金率等!$A:$A,0)),INDEX(掛金率等!E:E,MATCH($Y$3,掛金率等!$A:$A,0)))) -> 15.76 | K3: =IF(OR($C$3="",$C$5=""),"",IF(INDEX(掛金率等!F:F,MATCH($Y$3,掛金率等!$A:$A,0))=0,INDEX(掛金率等!F:F,MATCH($Y$2,掛金率等!$A:$A,0)),(INDEX(掛金率等!F:F,MATCH($Y$3,掛金率等!$A:$A,0))))) -> 2.3 | Q3: =IF(C5="","",Y5) -> 0 | S3: 資格喪失日(任継取得日) | T3: =IF($C$3="","",$T$2+1) -> 46204 | U3: =IF(T3="","",YEAR(T3)) -> 2026 | V3: =IF(T3="","",MONTH(T3)) -> 7 | W3: → | X3: 対象年度 | Y3: =Y2+1 -> 2027 | Z3: 4
B4: 生年月日 | C4: 25555 | D4: . | H4: ※基礎となる標準報酬月額は、退職月の標準報酬月額と当組合の平均標準報酬月額 | L4: =IF(C6="","",Y6) | S4: 退職月の標準報酬月額 | T4: =IF($C$5="","",$C$5) -> 470000
B5: 退職月の標準報酬月額 | C5: 470000 | H5: のいずれか低い額が適用されます。 | L5: =IF(C7="","",Y7) | S5: 平均標準報酬月額 | T5: =IF(Y2="","",IF(INDEX(掛金率等!C:C,MATCH(Y3,掛金率等!A:A,0))=0,INDEX(掛金率等!C:C,MATCH(Y2,掛金率等!A:A,0)),INDEX(掛金率等!C:C,MATCH(Y3,掛金率等!A:A,0)))) -> 410000
B6: ↑ | H6: =IF(OR($C$3="",$C$5=""),"",IF(INDEX(掛金率等!D:D,MATCH($Y$3,掛金率等!$A:$A,0))=0,"※翌年度の平均標準報酬月額や掛金率が未確定のため、前年の条件で試算しています。","")) -> ※翌年度の平均標準報酬月額や掛金率が未確定のため、前年の条件で試算しています。 | S6: 前納対象月 | T6: 12 | X6: 【口座振替】 | AA6: 年齢 | AB6: 標準報酬月額 | AC6: 短期 | AD6: 介護 | AE6: 子ども子育て支援金 | AF6: 合計
B7: 退職日・退職月の標準報酬月額を入力願います。 | S7: 生年月日 | T7: =IF(C4="","",C4) -> 25555 | X7: =IF(Y7="","",$Y$3) -> 2027 | Y7: =IF(Z3="","",Z3) -> 4 | Z7: =IF(Y7="","",VALUE(X7&"/"&Y7&"/1")) -> 46478 | AA7: =IF(OR($C$3="",$C$5="",$C$4="",Y7=""),"",DATEDIF($T$7,Z7,"Y")) -> 57 | AB7: =IF(Y7="","",$H$3) -> 410000 | AC7: =IF(AA7="","",IF(AA7>=75,0,ROUNDDOWN(AB7*$I$3/1000,0))) -> 38212 | AD7: =IF(AA7="","",IF(OR(AA7<40,AA7>=65),0,ROUNDDOWN(AB7*$J$3/1000,0))) -> 6461 | AE7: =IF(AA7="","",IF(AA7>=75,0,ROUNDDOWN(AB7*$K$3/1000,0))) -> 943 | AF7: =SUM(AC7:AE7) -> 45616
B8: 退職月の標準報酬月額は、給与明細等をご確認 | H8: 【口座振替の場合】 | X8: =IF(Y8="","",IF(Y7=12,X7+1,X7)) -> 2027 | Y8: =IF(Y7="","",IF(Y7=3,"",IF(Y7=12,1,Y7+1))) -> 5 | Z8: =IF(Y8="","",VALUE(X8&"/"&Y8&"/1")) -> 46508 | AA8: =IF(OR($C$3="",$C$5="",$C$4="",Y8=""),"",DATEDIF($T$7,Z8,"Y")) -> 57 | AB8: =IF(Y8="","",$H$3) -> 410000 | AC8: =IF(AA8="","",IF(AA8>=75,0,ROUNDDOWN(AB8*$I$3/1000,0))) -> 38212 | AD8: =IF(AA8="","",IF(OR(AA8<40,AA8>=65),0,ROUNDDOWN(AB8*$J$3/1000,0))) -> 6461 | AE8: =IF(AA8="","",IF(AA8>=75,0,ROUNDDOWN(AB8*$K$3/1000,0))) -> 943 | AF8: =SUM(AC8:AE8) -> 45616
B9: ください。 | H9: 月 | I9: 任意継続掛金 | J9: 介護掛金 | K9: 子ども子育て支援金 | L9: 合計 | X9: =IF(Y9="","",IF(Y8=12,X8+1,X8)) -> 2027 | Y9: =IF(Y8="","",IF(Y8=3,"",IF(Y8=12,1,Y8+1))) -> 6 | Z9: =IF(Y9="","",VALUE(X9&"/"&Y9&"/1")) -> 46539 | AA9: =IF(OR($C$3="",$C$5="",$C$4="",Y9=""),"",DATEDIF($T$7,Z9,"Y")) -> 57 | AB9: =IF(Y9="","",$H$3) -> 410000 | AC9: =IF(AA9="","",IF(AA9>=75,0,ROUNDDOWN(AB9*$I$3/1000,0))) -> 38212 | AD9: =IF(AA9="","",IF(OR(AA9<40,AA9>=65),0,ROUNDDOWN(AB9*$J$3/1000,0))) -> 6461 | AE9: =IF(AA9="","",IF(AA9>=75,0,ROUNDDOWN(AB9*$K$3/1000,0))) -> 943 | AF9: =SUM(AC9:AE9) -> 45616
H10: =Y7 -> 4 | I10: =IF(AC7="","",AC7) -> 38212 | J10: =IF(AD7="","",AD7) -> 6461 | K10: =IF(AE7="","",AE7) -> 943 | L10: =IF(OR($C$3="",$C$5="",AF7=""),"",AF7) -> 45616 | X10: =IF(Y10="","",IF(Y9=12,X9+1,X9)) -> 2027 | Y10: =IF(Y9="","",IF(Y9=3,"",IF(Y9=12,1,Y9+1))) -> 7 | Z10: =IF(Y10="","",VALUE(X10&"/"&Y10&"/1")) -> 46569 | AA10: =IF(OR($C$3="",$C$5="",$C$4="",Y10=""),"",DATEDIF($T$7,Z10,"Y")) -> 57 | AB10: =IF(Y10="","",$H$3) -> 410000 | AC10: =IF(AA10="","",IF(AA10>=75,0,ROUNDDOWN(AB10*$I$3/1000,0))) -> 38212 | AD10: =IF(AA10="","",IF(OR(AA10<40,AA10>=65),0,ROUNDDOWN(AB10*$J$3/1000,0))) -> 6461 | AE10: =IF(AA10="","",IF(AA10>=75,0,ROUNDDOWN(AB10*$K$3/1000,0))) -> 943 | AF10: =SUM(AC10:AE10) -> 45616
H11: =Y8 -> 5 | I11: =IF(AC8="","",AC8) -> 38212 | J11: =IF(AD8="","",AD8) -> 6461 | K11: =IF(AE8="","",AE8) -> 943 | L11: =IF(OR($C$3="",$C$5="",AF8=""),"",AF8) -> 45616 | X11: =IF(Y11="","",IF(Y10=12,X10+1,X10)) -> 2027 | Y11: =IF(Y10="","",IF(Y10=3,"",IF(Y10=12,1,Y10+1))) -> 8 | Z11: =IF(Y11="","",VALUE(X11&"/"&Y11&"/1")) -> 46600 | AA11: =IF(OR($C$3="",$C$5="",$C$4="",Y11=""),"",DATEDIF($T$7,Z11,"Y")) -> 57 | AB11: =IF(Y11="","",$H$3) -> 410000 | AC11: =IF(AA11="","",IF(AA11>=75,0,ROUNDDOWN(AB11*$I$3/1000,0))) -> 38212 | AD11: =IF(AA11="","",IF(OR(AA11<40,AA11>=65),0,ROUNDDOWN(AB11*$J$3/1000,0))) -> 6461 | AE11: =IF(AA11="","",IF(AA11>=75,0,ROUNDDOWN(AB11*$K$3/1000,0))) -> 943 | AF11: =SUM(AC11:AE11) -> 45616
B12: このシートは、既に任意継続組合員制度に | H12: =Y9 -> 6 | I12: =IF(AC9="","",AC9) -> 38212 | J12: =IF(AD9="","",AD9) -> 6461 | K12: =IF(AE9="","",AE9) -> 943 | L12: =IF(OR($C$3="",$C$5="",AF9=""),"",AF9) -> 45616 | X12: =IF(Y12="","",IF(Y11=12,X11+1,X11)) -> 2027 | Y12: =IF(Y11="","",IF(Y11=3,"",IF(Y11=12,1,Y11+1))) -> 9 | Z12: =IF(Y12="","",VALUE(X12&"/"&Y12&"/1")) -> 46631 | AA12: =IF(OR($C$3="",$C$5="",$C$4="",Y12=""),"",DATEDIF($T$7,Z12,"Y")) -> 57 | AB12: =IF(Y12="","",$H$3) -> 410000 | AC12: =IF(AA12="","",IF(AA12>=75,0,ROUNDDOWN(AB12*$I$3/1000,0))) -> 38212 | AD12: =IF(AA12="","",IF(OR(AA12<40,AA12>=65),0,ROUNDDOWN(AB12*$J$3/1000,0))) -> 6461 | AE12: =IF(AA12="","",IF(AA12>=75,0,ROUNDDOWN(AB12*$K$3/1000,0))) -> 943 | AF12: =SUM(AC12:AE12) -> 45616
B13: 加入している方が、２年目の掛金を確認するための | H13: =Y10 -> 7 | I13: =IF(AC10="","",AC10) -> 38212 | J13: =IF(AD10="","",AD10) -> 6461 | K13: =IF(AE10="","",AE10) -> 943 | L13: =IF(OR($C$3="",$C$5="",AF10=""),"",AF10) -> 45616 | X13: =IF(Y13="","",IF(Y12=12,X12+1,X12)) -> 2027 | Y13: =IF(Y12="","",IF(Y12=3,"",IF(Y12=12,1,Y12+1))) -> 10 | Z13: =IF(Y13="","",VALUE(X13&"/"&Y13&"/1")) -> 46661 | AA13: =IF(OR($C$3="",$C$5="",$C$4="",Y13=""),"",DATEDIF($T$7,Z13,"Y")) -> 57 | AB13: =IF(Y13="","",$H$3) -> 410000 | AC13: =IF(AA13="","",IF(AA13>=75,0,ROUNDDOWN(AB13*$I$3/1000,0))) -> 38212 | AD13: =IF(AA13="","",IF(OR(AA13<40,AA13>=65),0,ROUNDDOWN(AB13*$J$3/1000,0))) -> 6461 | AE13: =IF(AA13="","",IF(AA13>=75,0,ROUNDDOWN(AB13*$K$3/1000,0))) -> 943 | AF13: =SUM(AC13:AE13) -> 45616
B14: シートです。 | H14: =Y11 -> 8 | I14: =IF(AC11="","",AC11) -> 38212 | J14: =IF(AD11="","",AD11) -> 6461 | K14: =IF(AE11="","",AE11) -> 943 | L14: =IF(OR($C$3="",$C$5="",AF11=""),"",AF11) -> 45616 | X14: =IF(Y14="","",IF(Y13=12,X13+1,X13)) -> 2027 | Y14: =IF(Y13="","",IF(Y13=3,"",IF(Y13=12,1,Y13+1))) -> 11 | Z14: =IF(Y14="","",VALUE(X14&"/"&Y14&"/1")) -> 46692 | AA14: =IF(OR($C$3="",$C$5="",$C$4="",Y14=""),"",DATEDIF($T$7,Z14,"Y")) -> 57 | AB14: =IF(Y14="","",$H$3) -> 410000 | AC14: =IF(AA14="","",IF(AA14>=75,0,ROUNDDOWN(AB14*$I$3/1000,0))) -> 38212 | AD14: =IF(AA14="","",IF(OR(AA14<40,AA14>=65),0,ROUNDDOWN(AB14*$J$3/1000,0))) -> 6461 | AE14: =IF(AA14="","",IF(AA14>=75,0,ROUNDDOWN(AB14*$K$3/1000,0))) -> 943 | AF14: =SUM(AC14:AE14) -> 45616
B15: 新たに加入を希望される方で、１年目の掛金を | H15: =Y12 -> 9 | I15: =IF(AC12="","",AC12) -> 38212 | J15: =IF(AD12="","",AD12) -> 6461 | K15: =IF(AE12="","",AE12) -> 943 | L15: =IF(OR($C$3="",$C$5="",AF12=""),"",AF12) -> 45616 | X15: =IF(Y15="","",IF(Y14=12,X14+1,X14)) -> 2027 | Y15: =IF(Y14="","",IF(Y14=3,"",IF(Y14=12,1,Y14+1))) -> 12 | Z15: =IF(Y15="","",VALUE(X15&"/"&Y15&"/1")) -> 46722 | AA15: =IF(OR($C$3="",$C$5="",$C$4="",Y15=""),"",DATEDIF($T$7,Z15,"Y")) -> 57 | AB15: =IF(Y15="","",$H$3) -> 410000 | AC15: =IF(AA15="","",IF(AA15>=75,0,ROUNDDOWN(AB15*$I$3/1000,0))) -> 38212 | AD15: =IF(AA15="","",IF(OR(AA15<40,AA15>=65),0,ROUNDDOWN(AB15*$J$3/1000,0))) -> 6461 | AE15: =IF(AA15="","",IF(AA15>=75,0,ROUNDDOWN(AB15*$K$3/1000,0))) -> 943 | AF15: =SUM(AC15:AE15) -> 45616
B16: 確認したい場合は、試算（１年目）を | H16: =Y13 -> 10 | I16: =IF(AC13="","",AC13) -> 38212 | J16: =IF(AD13="","",AD13) -> 6461 | K16: =IF(AE13="","",AE13) -> 943 | L16: =IF(OR($C$3="",$C$5="",AF13=""),"",AF13) -> 45616 | X16: =IF(Y16="","",IF(Y15=12,X15+1,X15)) -> 2028 | Y16: =IF(Y15="","",IF(Y15=3,"",IF(Y15=12,1,Y15+1))) -> 1 | Z16: =IF(Y16="","",VALUE(X16&"/"&Y16&"/1")) -> 46753 | AA16: =IF(OR($C$3="",$C$5="",$C$4="",Y16=""),"",DATEDIF($T$7,Z16,"Y")) -> 58 | AB16: =IF(Y16="","",$H$3) -> 410000 | AC16: =IF(AA16="","",IF(AA16>=75,0,ROUNDDOWN(AB16*$I$3/1000,0))) -> 38212 | AD16: =IF(AA16="","",IF(OR(AA16<40,AA16>=65),0,ROUNDDOWN(AB16*$J$3/1000,0))) -> 6461 | AE16: =IF(AA16="","",IF(AA16>=75,0,ROUNDDOWN(AB16*$K$3/1000,0))) -> 943 | AF16: =SUM(AC16:AE16) -> 45616
B17: ご利用ください。 | H17: =Y14 -> 11 | I17: =IF(AC14="","",AC14) -> 38212 | J17: =IF(AD14="","",AD14) -> 6461 | K17: =IF(AE14="","",AE14) -> 943 | L17: =IF(OR($C$3="",$C$5="",AF14=""),"",AF14) -> 45616 | X17: =IF(Y17="","",IF(Y16=12,X16+1,X16)) -> 2028 | Y17: =IF(Y16="","",IF(Y16=3,"",IF(Y16=12,1,Y16+1))) -> 2 | Z17: =IF(Y17="","",VALUE(X17&"/"&Y17&"/1")) -> 46784 | AA17: =IF(OR($C$3="",$C$5="",$C$4="",Y17=""),"",DATEDIF($T$7,Z17,"Y")) -> 58 | AB17: =IF(Y17="","",$H$3) -> 410000 | AC17: =IF(AA17="","",IF(AA17>=75,0,ROUNDDOWN(AB17*$I$3/1000,0))) -> 38212 | AD17: =IF(AA17="","",IF(OR(AA17<40,AA17>=65),0,ROUNDDOWN(AB17*$J$3/1000,0))) -> 6461 | AE17: =IF(AA17="","",IF(AA17>=75,0,ROUNDDOWN(AB17*$K$3/1000,0))) -> 943 | AF17: =SUM(AC17:AE17) -> 45616
H18: =Y15 -> 12 | I18: =IF(AC15="","",AC15) -> 38212 | J18: =IF(AD15="","",AD15) -> 6461 | K18: =IF(AE15="","",AE15) -> 943 | L18: =IF(OR($C$3="",$C$5="",AF15=""),"",AF15) -> 45616 | X18: =IF(Y18="","",IF(Y17=12,X17+1,X17)) -> 2028 | Y18: =IF(Y17="","",IF(Y17=3,"",IF(Y17=12,1,Y17+1))) -> 3 | Z18: =IF(Y18="","",VALUE(X18&"/"&Y18&"/1")) -> 46813 | AA18: =IF(OR($C$3="",$C$5="",$C$4="",Y18=""),"",DATEDIF($T$7,Z18,"Y")) -> 58 | AB18: =IF(Y18="","",$H$3) -> 410000 | AC18: =IF(AA18="","",IF(AA18>=75,0,ROUNDDOWN(AB18*$I$3/1000,0))) -> 38212 | AD18: =IF(AA18="","",IF(OR(AA18<40,AA18>=65),0,ROUNDDOWN(AB18*$J$3/1000,0))) -> 6461 | AE18: =IF(AA18="","",IF(AA18>=75,0,ROUNDDOWN(AB18*$K$3/1000,0))) -> 943 | AF18: =SUM(AC18:AE18) -> 45616
H19: =Y16 -> 1 | I19: =IF(AC16="","",AC16) -> 38212 | J19: =IF(AD16="","",AD16) -> 6461 | K19: =IF(AE16="","",AE16) -> 943 | L19: =IF(OR($C$3="",$C$5="",AF16=""),"",AF16) -> 45616 | AC19: =SUM(AC7:AC18) -> 458544 | AD19: =SUM(AD7:AD18) -> 77532 | AE19: =SUM(AE7:AE18) -> 11316 | AF19: =SUM(AF7:AF18) -> 547392
H20: =Y17 -> 2 | I20: =IF(AC17="","",AC17) -> 38212 | J20: =IF(AD17="","",AD17) -> 6461 | K20: =IF(AE17="","",AE17) -> 943 | L20: =IF(OR($C$3="",$C$5="",AF17=""),"",AF17) -> 45616 | AC20: =IF(OR($C$3="",$C$5="",SUM(AC7:AC18)=0),0,AC19/AC22) -> 38212 | AD20: =IF(OR($C$3="",$C$5="",SUM(AD7:AD18)=0),0,AD19/AD22) -> 6461 | AE20: =IF(OR($C$3="",$C$5="",SUM(AE7:AE18)=0),0,AE19/AE22) -> 943
H21: =Y18 -> 3 | I21: =IF(AC18="","",AC18) -> 38212 | J21: =IF(AD18="","",AD18) -> 6461 | K21: =IF(AE18="","",AE18) -> 943 | L21: =IF(OR($C$3="",$C$5="",AF18=""),"",AF18) -> 45616 | AC21: =COUNTIF(AC8:AC18,">0") -> 11 | AD21: =COUNTIF(AD8:AD18,">0") -> 11 | AE21: =COUNTIF(AE8:AE18,">0") -> 11
H22: 合計 | I22: =IF(OR($C$3="",$C$5=""),"",AC19) -> 458544 | J22: =IF(OR($C$3="",$C$5=""),"",AD19) -> 77532 | K22: =IF(OR($C$3="",$C$5=""),"",AE19) -> 11316 | L22: =IF(OR($C$3="",$C$5=""),"",AF19) -> 547392 | AC22: =COUNTIF(AC7:AC18,">0") -> 12 | AD22: =COUNTIF(AD7:AD18,">0") -> 12 | AE22: =COUNTIF(AE7:AE18,">0") -> 12
H23: ※口座振替を選択された場合でも、最初の２か月分は指定の口座にお振込みいただきます。
H24: ３か月目以降は、上記額（月額の合計）を毎月ご指定の口座から引き落としします。
H26: 【一括納付の場合】
I27: 任意継続掛金 | J27: 介護掛金 | K27: 子ども子育て支援金 | L27: 合計 | X27: 【一括納付（２年目）】
H28: 年額 | I28: =IF(OR($C$3="",$C$5=""),"",AC28) -> 448934 | J28: =IF(OR($C$3="",$C$5=""),"",AD28) -> 75907 | K28: =IF(OR($C$3="",$C$5=""),"",AE28) -> 11079 | L28: =IF(OR($C$3="",$C$5=""),"",AF28) -> 535920 | X28: （12月分） | AC28: =IF($AC20="","",ROUND(AC20*INDEX(掛金率等!$I:$I,MATCH(12,掛金率等!$H:$H,0)),0)) -> 448934 | AD28: =IF($AD20="","",ROUND(AD20*INDEX(掛金率等!$I:$I,MATCH(12,掛金率等!$H:$H,0)),0)) -> 75907 | AE28: =IF($AE20="","",ROUND(AE20*INDEX(掛金率等!$I:$I,MATCH(12,掛金率等!$H:$H,0)),0)) -> 11079 | AF28: =SUM(AC28:AE28) -> 535920
H29: 前納対象月数 | I29: =IF(OR($C$3="",$C$5="",AC22="",AC22=0),"",12) -> 12 | J29: =IF(OR($C$3="",$C$5="",AD22="",AD22=0),"",12) -> 12 | K29: =IF(OR($C$3="",$C$5="",AE22="",AE22=0),"",12) -> 12 | L29: =IF(OR($C$3="",$C$5="",AF29=""),"",AF29)
H30: ※前年度中に加入された方の一括納付額です。（今年度加入された方は【一括納付（１年目）の場合】を御確認ください。

Sheet 掛金率等
A1: 年度 (西暦) | B1: 年度 （和暦） | C1: 平均標準報酬月額 | D1: 短期 | E1: 介護 | F1: 子ども子育て | G1: ←担当者は各年度の額・率が両方確定したら、 数値を入力してください!! | H1: 前納 月数 | I1: 乗じる率 | J1: ←前納時の率が | K1: 取得月 | L1: 納付月数 | M1: 取得月 | N1: １年目 前納対象月 | O1: 65歳 到達月 | P1: 納付月数
A2: 2024 | B2: 令和6 | C2: 380000 | D2: 93.2 | E2: 15.92 | F2: 0 | H2: 1 | I2: 0.9967369 | J2: 変更となった場合 | K2: 4 | L2: 12 | M2: 4 | N2: 11 | O2: 4 | P2: 0
A3: 2025 | B3: 令和7 | C3: 380000 | D3: 93.2 | E3: 16.08 | F3: 0 | H3: 2 | I3: 1.9902215 | J3: には、この率を更新 | K3: 5 | L3: 11 | M3: 5 | N3: 10 | O3: 5 | P3: 1
A4: 2026 | B4: 令和8 | C4: 410000 | D4: 93.2 | E4: 15.76 | F4: 2.3 | H4: 3 | I4: 2.9804642 | J4: してください。 | K4: 6 | L4: 10 | M4: 6 | N4: 9 | O4: 6 | P4: 2
A5: 2027 | B5: 令和9 | H5: 4 | I5: 3.9674757 | K5: 7 | L5: 9 | M5: 7 | N5: 8 | O5: 7 | P5: 3
A6: 2028 | B6: 令和10 | H6: 5 | I6: 4.9512666 | K6: 8 | L6: 8 | M6: 8 | N6: 7 | O6: 8 | P6: 4
A7: 2029 | B7: 令和11 | H7: 6 | I7: 5.9318472 | K7: 9 | L7: 7 | M7: 9 | N7: 6 | O7: 9 | P7: 5
A8: 2030 | B8: 令和12 | H8: 7 | I8: 6.9092282 | K8: 10 | L8: 6 | M8: 10 | N8: 5 | O8: 10 | P8: 6
A9: 2031 | B9: 令和13 | H9: 8 | I9: 7.88342 | K9: 11 | L9: 5 | M9: 11 | N9: 4 | O9: 11 | P9: 7
A10: 2032 | B10: 令和14 | H10: 9 | I10: 8.8544329 | K10: 12 | L10: 4 | M10: 12 | N10: 3 | O10: 12 | P10: 8
A11: 2033 | B11: 令和15 | H11: 10 | I11: 9.8222773 | K11: 1 | L11: 3 | M11: 1 | N11: 2 | O11: 1 | P11: 9
H12: 11 | I12: 10.786964 | K12: 2 | L12: 2 | M12: 2 | N12: 1 | O12: 2 | P12: 10
H13: 12 | I13: 11.748502 | K13: 3 | L13: 1 | M13: 3 | N13: 0 | O13: 3 | P13: 11
H14: 0 | I14: 0

Sheet Sheet1
C2: 0.9967369
C3: 1.9902215
C4: 2.9804642
C5: 3.9674757
C6: 4.9512666
C7: 5.9318472
C8: 6.9092282
C9: 7.88342
C10: 8.8544329
C11: 9.8222773
C12: 10.786964
