Workbook

Sheet DATA
B2: 令和 | C2: 有
B3: 平成 | C3: 無
B4: 昭和 | C4: 請求中

Sheet 傷病手当金請求書
B1: 傷病手当金・傷病手当金附加金請求書 【 正規職員 ・ 臨時的任用職員（臨時講師等） ・ 任期付職員用 】
B4: 組 合 員 氏 名 | AI4: 組合員証番号
B6: 所 属 所 | K6: 名 称 | AO6: 所属所コード
B8: 資格取得年月日 | K8: 昭和 平成 令和 | R8: 年 | W8: 月 | AB8: 日 | AD8: 資格喪失年月日 （退職日の翌日） | AM8: 令和 | AT8: 年 | AY8: 月 | BD8: 日
B10: 傷 病 名 | AD10: 発 病 年 月 日 | AM10: 令和 | AT10: 年 | AY10: 月 | BD10: 日
B12: 傷病の原因 | O12: 公務外 | X12: 公務上 | AQ12: 発病時期不詳
B13: 勤務できなくなった | K13: 令和 | R13: 年 | W13: 月 | AB13: 日 | AD13: 標準報酬月額 （短期・介護） | BD13: 円
B14: 最 初 の 日
B15: 請 求 期 間 | K15: 令和 | R15: 年 | W15: 月 | AB15: 日 | AD15: から | AH15: 令和 | AO15: 年 | AT15: 月 | AY15: 日
B17: 請 求 金 額 | AB17: 円 | AD17: ※ 決 定 金 額 （共済組合記入欄） | BD17: 円
B19: 介護保険法による | K19: 保険者番号 | AH19: 被保険者番号
B20: 給付を受けたとき | K20: 保険者名称
B21: 年金の受給有無 該当する場合☑ | M21: 障害厚生年金額 | AD21: 円 | AH21: 老齢厚生年金額※ | AY21: 円 | BA21: ※資格喪失後の場合
M22: 障害基礎年金額 | AD22: 円 | AH22: 老齢基礎年金額※ | AY22: 円
M23: 障害手当金 | AD23: 円 | AH23: 退職等年金給付※ | AY23: 円
C25: 上記のとおり請求します。
C26: なお、傷病手当金と同一傷病による障害年金等（資格喪失後の請求である場合は老齢年金等）が支払われた
C27: 場合には、傷病手当金をすみやかに返納します。
B28: 公立学校共済組合滋賀支部長 様
F29: 令和 | L29: 年 | P29: 月 | T29: 日 | Z29: 請求者 | AE29: 住 所
AE30: 氏 名
AE31: 電話番号 | AO31: － | AU31: －
D34: 上記の記載事項は、事実と相違ないものと認めます。
F35: 令和 | L35: 年 | P35: 月 | T35: 日 | Z35: 所属所長 | AE35: 職 名
AE36: 氏 名
AE37: 電話番号 | AO37: － | AU37: －
C39: 勤務しなかった期間に支払われた報酬についての所属機関の長または給与事務担当者の証明
F41: 特別休暇期間 | M41: ： | O41: 令和 | T41: 年 | X41: 月 | AB41: 日 | AD41: ～ | AG41: 令和 | AL41: 年 | AP41: 月 | AT41: 日
F42: ８割休職期間 | M42: ： | O42: 令和 | T42: 年 | X42: 月 | AB42: 日 | AD42: ～ | AG42: 令和 | AL42: 年 | AP42: 月 | AT42: 日
F43: 無給休職期間 | M43: ： | O43: 令和 | T43: 年 | X43: 月 | AB43: 日 | AD43: ～ | AG43: 令和 | AL43: 年 | AP43: 月 | AT43: 日
F44: 上記のとおり報酬を支払ったことを証明します。
H45: 令和 | M45: 年 | Q45: 月 | U45: 日 | Y45: 所属所長または 給与事務担当者 | AI45: 職名
AI46: 氏名
C49: 療養のために勤務できないことに関する医師の証明
B50: 傷 病 名 | AD50: 発病年月日 | AM50: 令和 | AT50: 年 | AY50: 月 | BD50: 日
B52: 勤務できないと | K52: 令和 | R52: 年 | W52: 月 | AB52: 日 | AD52: から | AI52: 令和 | AP52: 年 | AU52: 月 | AZ52: 日 | BB52: まで
B53: 認めた期間
B54: 症状および経過
E57: 上記のとおり証明します。 | AB57: 所在地
D58: 令和 | J58: 年 | N58: 月 | R58: 日 | AB58: 医療機関名
AB59: 医師氏名
B61: 〇 記入される医師へのお願い事項
B62: 医師の証明日は、勤務できないと認めた期間の末日以後で証明してください。

Sheet 傷病手当金請求書 【記入例】
B1: 傷病手当金・傷病手当金附加金請求書 【 正規職員 ・ 臨時的任用職員（臨時講師等） ・ 任期付職員用 】
B4: 組 合 員 氏 名 | L4: 公立 太郎 | AI4: 組合員証番号 | AR4: 1 | AT4: 2 | AV4: 3 | AX4: 4 | AZ4: 5 | BB4: 6 | BD4: 7
B6: 所 属 所 | K6: 名 称 | Q6: 共済小学校 | AO6: 所属所コード | AX6: 0 | AZ6: 0 | BB6: 0 | BD6: 1
B8: 資格取得年月日 | K8: 昭和 平成 令和 | O8: 10 | R8: 年 | T8: 4 | W8: 月 | Y8: 1 | AB8: 日 | AD8: 資格喪失年月日 （退職日の翌日） | AM8: 令和 | AT8: 年 | AY8: 月 | BD8: 日
B10: 傷 病 名 | K10: 〇〇〇〇 | AD10: 発 病 年 月 日 | AM10: 令和 | AQ10: 8 | AT10: 年 | AV10: 5 | AY10: 月 | BA10: 10 | BD10: 日
B12: 傷病の原因 | O12: 公務外 | X12: 公務上 | AQ12: 発病時期不詳
B13: 勤務できなくなった | K13: 令和 | O13: 7 | R13: 年 | T13: 6 | W13: 月 | Y13: 4 | AB13: 日 | AD13: 標準報酬月額 （短期・介護） | AM13: 410000 | BD13: 円
B14: 最 初 の 日
B15: 請 求 期 間 | K15: 令和 | O15: 8 | R15: 年 | T15: 9 | W15: 月 | Y15: 2 | AB15: 日 | AD15: から | AH15: 令和 | AL15: 8 | AO15: 年 | AQ15: 9 | AT15: 月 | AV15: 30 | AY15: 日
B17: 請 求 金 額 | K17: 260967 | AB17: 円 | AD17: ※ 決 定 金 額 （共済組合記入欄） | BD17: 円
B19: 介護保険法による | K19: 保険者番号 | AH19: 被保険者番号
B20: 給付を受けたとき | K20: 保険者名称
B21: 年金の受給有無 該当する場合☑ | M21: 障害厚生年金額 | AD21: 円 | AH21: 老齢厚生年金額※ | AY21: 円 | BA21: ※資格喪失後の場合
M22: 障害基礎年金額 | AD22: 円 | AH22: 老齢基礎年金額※ | AY22: 円
M23: 障害手当金 | AD23: 円 | AH23: 退職等年金給付※ | AY23: 円
C25: 上記のとおり請求します。
C26: なお、傷病手当金と同一傷病による障害年金等（資格喪失後の請求である場合は老齢年金等）が支払われた
C27: 場合には、傷病手当金をすみやかに返納します。
B28: 公立学校共済組合滋賀支部長 様
F29: 令和 | J29: 8 | L29: 年 | N29: 10 | P29: 月 | R29: 1 | T29: 日 | Z29: 請求者 | AE29: 住 所 | AJ29: 〇〇市〇〇町…
AE30: 氏 名 | AJ30: 公立 太郎
AE31: 電話番号 | AJ31: 80 | AO31: － | AQ31: **** | AU31: － | AW31: ****
D34: 上記の記載事項は、事実と相違ないものと認めます。
F35: 令和 | J35: 8 | L35: 年 | N35: 10 | P35: 月 | R35: 6 | T35: 日 | Z35: 所属所長 | AE35: 職 名 | AJ35: 公立小学校 校長
AE36: 氏 名 | AJ36: 滋賀 花子
AE37: 電話番号 | AJ37: 77 | AO37: － | AQ37: *** | AU37: － | AW37: ****
C39: 勤務しなかった期間に支払われた報酬についての所属機関の長または給与事務担当者の証明
F41: 特別休暇期間 | M41: ： | O41: 令和 | R41: 7 | T41: 年 | V41: 6 | X41: 月 | Z41: 4 | AB41: 日 | AD41: ～ | AG41: 令和 | AJ41: 7 | AL41: 年 | AN41: 9 | AP41: 月 | AR41: 1 | AT41: 日
F42: ８割休職期間 | M42: ： | O42: 令和 | R42: 7 | T42: 年 | V42: 9 | X42: 月 | Z42: 2 | AB42: 日 | AD42: ～ | AG42: 令和 | AJ42: 8 | AL42: 年 | AN42: 9 | AP42: 月 | AR42: 1 | AT42: 日
F43: 無給休職期間 | M43: ： | O43: 令和 | R43: 8 | T43: 年 | V43: 9 | X43: 月 | Z43: 2 | AB43: 日 | AD43: ～ | AG43: 令和 | AJ43: 8 | AL43: 年 | AN43: 9 | AP43: 月 | AR43: 30 | AT43: 日
F44: 上記のとおり報酬を支払ったことを証明します。
H45: 令和 | K45: 8 | M45: 年 | O45: 10 | Q45: 月 | S45: 6 | U45: 日 | Y45: 所属所長または 給与事務担当者 | AI45: 職名 | AM45: 事務主査
AI46: 氏名 | AM46: 湖山 一郎
C49: 療養のために勤務できないことに関する医師の証明
B50: 傷 病 名 | K50: 〇〇〇〇 | AD50: 発病年月日 | AM50: 令和 | AT50: 年 | AY50: 月 | BD50: 日
B52: 勤務できないと | K52: 令和 | O52: 8 | R52: 年 | T52: 9 | W52: 月 | Y52: 2 | AB52: 日 | AD52: から | AI52: 令和 | AM52: 8 | AP52: 年 | AR52: 9 | AU52: 月 | AW52: 30 | AZ52: 日 | BB52: まで
B53: 認めた期間
B54: 症状および経過 | K54: △△△△△△
E57: 上記のとおり証明します。 | AB57: 所在地 | AH57: 〇〇市〇〇町…
D58: 令和 | H58: 8 | J58: 年 | L58: 10 | N58: 月 | P58: 1 | R58: 日 | AB58: 医療機関名 | AH58: 〇〇〇〇医院
AB59: 医師氏名 | AH59: △△ △△
B61: 〇 記入される医師へのお願い事項
B62: 医師の証明日は、勤務できないと認めた期間の末日以後で証明してください。

Sheet 算定表（入力画面）
A1: （入力画面） | B1: 休職期間中の給与額を入力して試算する場合
B2: ※１ 月途中から休職になる月ではなく、全期間が休職となる月の給与を基に作成してください。
B3: ※２ 色つきのセルに入力してください。
B4: １ 給与明細や休職発令の辞令等（以下「給与明細等」という。）から休職中に支給されている 給与種目を確認し、必要に応じて イ に種目を入力してください。
C5: （例）「今後…給料、扶養手当、調整手当、…のそれぞれ１００分の○○を支給し…」 「今後休職の期間中、従前のとおり給与を支給する。」等
C7: ア.給与明細等に記載されている休職中にも支給されている給与種目を確認してください。
C8: 給料月額 | K8: 教職調整額 | S8: 地域手当 | AA8: 扶養手当 | AI8: 住居手当
C9: ※給料の調整額は給料月額に含むこととします。 ※期末手当及び勤勉手当は、傷病手当金の算出にあたり調整対象となりません。
C10: イ.上記ア以外に休職中に支給されるている給与種目があれば入力してください。
K11: 手当
K12: 手当
B14: （２）給与の支給割合を入力してください。
B15: 辞令に「それぞれ１００分の○○を支給し、…」と明記してある場合 ただし、辞令の文言が「従前のとおり給与を支給する。」の場合は、当該辞令の発令前の給与支給 割合を入力してください。 （当該辞令による休職発令の前が病気休暇の場合は１００分の１００を入力します。）
E17: １００分の | M17: 100
B19: ２ 休職中に支給されている給与の金額を入力してください。
C20: 休職中も支給されている給与種目について減額前の金額を入力してください。
D21: ※給料の調整額は給料月額に含めて入力してください。
E22: 給与種目 | M22: 支給額
E23: 給料月額
E24: 教職調整額 | AD24: 給与の支給割合を入力する
E25: 地域手当 | AD25: １００分の | AL25: 0
E26: 扶養手当
E27: 住居手当
E28: 通勤手当
E29: =IF(C12="","",C12)
B32: ３ 標準報酬月額を入力してください。
E34: 標準報酬月額
D36: ※ 支給開始月以前１２月の標準報酬月額の平均月額
DA49: 報酬②
DA50: Ｃ１ | DE50: =#REF! -> #REF!
DA51: Ｃ２ | DE51: =#REF! -> #REF! | DQ51: =IF(I5="","",SUM(BH38:BM39))
DA52: Ｃ３ | DE52: =#REF! -> #REF!

Sheet 算定表
B1: ※このシートには手を加えないでください。 正しく計算されなくなります。 | AA1: 傷病手当金算定表
B3: 標準報酬の月額 | M3: ='算定表（入力画面）'!T34 -> 0 | X3: 円 | AB3: 給与の支給割合 | AM3: １００分の | AT3: ='算定表（入力画面）'!AL25 -> 0 | AZ3: 給付額 | BF3: 当試算シートの下部参照
B5: 給付額 | O5: =AT42 -> 0 | AD5: =AT44 -> 0 | AS5: =AT46 -> 0 | BH5: =AT48 -> 0
B6: 報酬① | O6: 支給対象日数が | AD6: 支給対象日数が | AS6: 支給対象日数が | BH6: 支給対象日数が
B7: 種別 | H7: 本来の支給額 | O7: Ａ1 | Q7: 20 | W7: の場合 | AD7: Ａ2 | AF7: 21 | AL7: の場合 | AS7: Ａ3 | AU7: 22 | BA7: の場合 | BH7: Ａ4 | BJ7: 23 | BP7: の場合
B8: 給料月額 | H8: =IF('算定表（入力画面）'!M23="","",'算定表（入力画面）'!M23) | O8: =IF($H8="","",(ROUNDDOWN($H8*$AT3/100,0))) | AB8: 円 | AD8: =IF($H8="","",(ROUNDDOWN($H8*$AT3/100,0))) | AQ8: 円 | AS8: =IF($H8="","",(ROUNDDOWN($H8*$AT3/100,0))) | BF8: 円 | BH8: =IF($H8="","",(ROUNDDOWN($H8*$AT3/100,0))) | BU8: 円
B9: 地域手当 | H9: =IF('算定表（入力画面）'!M25="","",'算定表（入力画面）'!M25) | O9: =IF($H9="","",(ROUNDDOWN($H9*$AT3/100,0))) | AB9: 円 | AD9: =IF($H9="","",(ROUNDDOWN($H9*$AT3/100,0))) | AQ9: 円 | AS9: =IF($H9="","",(ROUNDDOWN($H9*$AT3/100,0))) | BF9: 円 | BH9: =IF($H9="","",(ROUNDDOWN($H9*$AT3/100,0))) | BU9: 円
B10: 合 計 | O10: Ｂ１ | Q10: =IF(Q7="","",SUM(O8:AA9)) -> 0 | AB10: 円 | AD10: Ｂ２ | AF10: =IF(AF$7="","",SUM(AD8:AP9)) -> 0 | AQ10: 円 | AS10: Ｂ２ | AU10: =IF(AU$7="","",SUM(AS8:BE9)) -> 0 | BF10: 円 | BH10: Ｂ３ | BJ10: =IF(BJ$7="","",SUM(BH8:BT9)) -> 0 | BU10: 円
B11: 報酬② | O11: 本来の 支給額 | T11: × | U11: 左の手当に対する 期間内の支給割合 | AD11: 本来の 支給額 | AI11: × | AJ11: 左の手当に対する 期間内の支給割合 | AS11: 本来の 支給額 | AX11: × | AY11: 左の手当に対する 期間内の支給割合 | BH11: 本来の 支給額 | BM11: × | BN11: 左の手当に対する 期間内の支給割合
B12: 種別 | J12: 金額
B13: 給与減額の給与種目 | E13: 教職調整額 | J13: =IF('算定表（入力画面）'!M24="","",'算定表（入力画面）'!M24) | O13: =IF(J13="","",J13) | T13: × | U13: =IF($J13="","",IF(AT$3=50,1,AT$3/100)) | X13: ＝ | Y13: =IF(J13="","",O13*U13) | AD13: =IF(J13="","",J13) | AI13: × | AJ13: =IF(J13="","",IF(AT$3=50,1,AT$3/100)) | AM13: ＝ | AN13: =IF(J13="","",AD13*AJ13) | AR13: 円 | AS13: =IF(J13="","",$J13) | AX13: × | AY13: =IF(J13="","",IF(AT$3=50,1,AT$3/100)) | BB13: ＝ | BC13: =IF(J13="","",AS13*AY13) | BG13: 円 | BH13: =IF(J13="","",$J13) | BM13: × | BN13: =IF(J13="","",IF(AT$3=50,1,AT$3/100)) | BQ13: ＝ | BR13: =IF(J13="","",BH13*BN13) | BV13: 円
E14: 扶養手当 | J14: =IF('算定表（入力画面）'!M26="","",'算定表（入力画面）'!M26) | O14: =IF(J14="","",J14) | T14: × | U14: =IF(J14="","",IF(AT$3=50,1,AT$3/100)) | X14: ＝ | Y14: =IF(J14="","",O14*U14) | AD14: =IF(J14="","",J14) | AI14: × | AJ14: =IF(J14="","",IF(AT$3=50,1,AT$3/100)) | AM14: ＝ | AN14: =IF(J14="","",AD14*AJ14) | AR14: 円 | AS14: =IF(J14="","",$J14) | AX14: × | AY14: =IF(J14="","",IF(AT$3=50,1,AT$3/100)) | BB14: ＝ | BC14: =IF(J14="","",AS14*AY14) | BG14: 円 | BH14: =IF(J14="","",$J14) | BM14: × | BN14: =IF(J14="","",IF(AT$3=50,1,AT$3/100)) | BQ14: ＝ | BR14: =IF(J14="","",BH14*BN14) | BV14: 円
E15: 住居手当 | J15: =IF('算定表（入力画面）'!M27="","",'算定表（入力画面）'!M27) | O15: =IF(J15="","",J15) | T15: × | U15: =IF(J15="","",AT$3/100) | X15: ＝ | Y15: =IF(J15="","",O15*U15) | AD15: =IF(J15="","",J15) | AI15: × | AJ15: =IF(J15="","",AT$3/100) | AM15: ＝ | AN15: =IF(J15="","",AD15*AJ15) | AR15: 円 | AS15: =IF(J15="","",$J15) | AX15: × | AY15: =IF(J15="","",AT$3/100) | BB15: ＝ | BC15: =IF(J15="","",AS15*AY15) | BG15: 円 | BH15: =IF(J15="","",$J15) | BM15: × | BN15: =IF(J15="","",AT$3/100) | BQ15: ＝ | BR15: =IF(J15="","",BH15*BN15) | BV15: 円
E16: =IF('算定表（入力画面）'!E28="","",'算定表（入力画面）'!E28) -> 通勤手当 | J16: =IF('算定表（入力画面）'!M28="","",'算定表（入力画面）'!M28) | O16: =IF(J16="","",J16) | T16: × | U16: =IF(J16="","",IF(AT$3=50,1,AT$3/100)) | X16: ＝ | Y16: =IF(J16="","",O16*U16) | AD16: =IF(J16="","",J16) | AI16: × | AJ16: =IF(J16="","",IF(AT$3=50,1,AT$3/100)) | AM16: ＝ | AN16: =IF(J16="","",AD16*AJ16) | AR16: 円 | AS16: =IF(J16="","",$J16) | AX16: × | AY16: =IF(J16="","",IF(AT$3=50,1,AT$3/100)) | BB16: ＝ | BC16: =IF(J16="","",AS16*AY16) | BG16: 円 | BH16: =IF(J16="","",$J16) | BM16: × | BN16: =IF(J16="","",IF(AT$3=50,1,AT$3/100)) | BQ16: ＝ | BR16: =IF(J16="","",BH16*BN16) | BV16: 円
E17: =IF('算定表（入力画面）'!E29="","",'算定表（入力画面）'!E29) | J17: =IF('算定表（入力画面）'!M29="","",'算定表（入力画面）'!M29) | O17: =IF(J17="","",J17) | T17: × | U17: =IF(J17="","",IF(AT$3=50,1,AT$3/100)) | X17: ＝ | Y17: =IF(J17="","",O17*U17) | AD17: =IF(J17="","",J17) | AI17: × | AJ17: =IF(J17="","",IF(AT$3=50,1,AT$3/100)) | AM17: ＝ | AN17: =IF(J17="","",AD17*AJ17) | AR17: 円 | AS17: =IF(J17="","",$J17) | AX17: × | AY17: =IF(J17="","",IF(AT$3=50,1,AT$3/100)) | BB17: ＝ | BC17: =IF(J17="","",AS17*AY17) | BG17: 円 | BH17: =IF(J17="","",$J17) | BM17: × | BN17: =IF(J17="","",IF(AT$3=50,1,AT$3/100)) | BQ17: ＝ | BR17: =IF(J17="","",BH17*BN17) | BV17: 円
B18: 合 計 | O18: Ｃ１ | Q18: =SUM(Y13:AB17) -> 0 | AB18: 円 | AD18: Ｃ２ | AF18: =IF(AF$7="","",(SUM(AN13:AQ17))) -> 0 | AQ18: 円 | AS18: Ｃ２ | AU18: =IF(AU$7="","",(SUM(BC13:BF17))) -> 0 | BF18: 円 | BH18: Ｃ３ | BJ18: =IF(BJ$7="","",(SUM(BR13:BU17))) -> 0 | BU18: 円
C21: 支 給 額 算 定 調 書
B22: 報 酬 日 額 | D22: 支給対象日数 | L22: ２０日の場合 | Z22: ２１日の場合 | AN22: ２２日の場合 | BB22: ２３日の場合
D23: 報酬① | L23: Ｄ１ （Ｂ１÷Ａ１） | S23: =ROUNDDOWN(Q10/Q7,2) -> 0 | Y23: 円 | Z23: Ｄ２ （Ｂ２÷Ａ２） | AG23: =ROUNDDOWN(AF10/AF7,2) -> 0 | AM23: 円 | AN23: Ｄ３ （Ｂ３÷Ａ３） | AU23: =ROUNDDOWN(AU10/AU7,2) -> 0 | BA23: 円 | BB23: Ｄ４ （Ｂ４÷Ａ４） | BI23: =ROUNDDOWN(BJ10/BJ7,2) -> 0 | BO23: 円
D24: 報酬② | L24: Ｅ１ （Ｃ１÷２２） | S24: =ROUNDDOWN(Q18/22,2) -> 0 | Y24: 円 | Z24: Ｅ２ （Ｃ２÷２２） | AG24: =ROUNDDOWN(AF18/22,2) -> 0 | AM24: 円 | AN24: Ｅ３ （Ｃ３÷２２） | AU24: =ROUNDDOWN(AU18/22,2) -> 0 | BA24: 円 | BB24: Ｅ４ （Ｃ４÷２２） | BI24: =ROUNDDOWN(BJ18/22,2) -> 0 | BO24: 円
D25: 合計 | L25: Ｆ１ （Ｄ１＋Ｅ１） | S25: =ROUNDDOWN(S23+S24,0) -> 0 | Y25: 円 | Z25: Ｆ２ （Ｄ２＋Ｅ２） | AG25: =ROUNDDOWN(AG23+AG24,0) -> 0 | AM25: 円 | AN25: Ｆ３ （Ｄ３＋Ｅ１） | AU25: =ROUNDDOWN(AU23+AU24,0) -> 0 | BA25: 円 | BB25: Ｆ４ （Ｄ４＋Ｅ４） | BI25: =ROUNDDOWN(BI23+BI24,0) -> 0 | BO25: 円
B27: （１） 休業給付金の日額の算定
C28: 標準報酬月額 | U28: 標準報酬日額
C29: （ | D29: =IF(M3="","",M3) -> 0 | I29: ）円 | K29: × 1/22 ＝ | T29: （ | U29: =IF(D29="","",ROUND(D29/22,-1)) -> 0 | AA29: ）円 | AC29: （１０円未満四捨五入）
C30: 標準報酬日額 | L30: 支給割合 | V30: 給付日額
C31: （ | D31: =U29 -> 0 | I31: ） | J31: × | K31: （ | L31: 2 | N31: / 3 ) | S31: ＝ | U31: =IF(D29="","",ROUND(D31*2/3,0)) -> 0 | AA31: 円 | AB31: （１円未満四捨五入） | AK31: ・・・・・・・・・・・・①
B33: （２） 報酬の日額 | P33: （３） 支給対象日数 | AI33: （４） 控除額
C34: （Ｆ１ | E34: =S25 -> 0 | J34: 円） | L34: ・・・ | N34: ② | Q34: ①＞ | S34: ② | U34: となる日（ | Y34: =IF(E34="","",IF(U$31>E34,Q7,0)) -> 0 | AB34: 日） | AD34: ・・・・ | AG34: ③ | AJ34: ② | AL34: × | AN34: ③ | AP34: ＝ | AR34: =IF(E34="","",E34*Y34) -> 0 | AY34: 円
C35: （Ｆ２ | E35: =AG25 -> 0 | J35: 円） | L35: ・・・ | N35: ②’ | Q35: ①＞ | S35: ②’ | U35: となる日（ | Y35: =IF(E35="","",IF(U$31>E35,AF7,0)) -> 0 | AB35: 日） | AD35: ・・・・ | AG35: ③’ | AJ35: ②’ | AL35: × | AN35: ③’ | AP35: ＝ | AR35: =IF(E35="","",E35*Y35) -> 0 | AY35: 円
C36: （Ｆ３ | E36: =AU25 -> 0 | J36: 円） | L36: ・・・ | N36: ②” | Q36: ①＞ | S36: ②” | U36: となる日（ | Y36: =IF(E36="","",IF(U$31>E36,AU7,0)) -> 0 | AB36: 日） | AD36: ・・・・ | AG36: ③” | AJ36: ②” | AL36: × | AN36: ③” | AP36: ＝ | AR36: =IF(E36="","",E36*Y36) -> 0 | AY36: 円
C37: （Ｆ4 | E37: =BI25 -> 0 | J37: 円） | L37: ・・・ | N37: ②” | Q37: ①＞ | S37: ②” | U37: となる日（ | Y37: =IF(E37="","",IF(U$31>E37,BJ7,0)) -> 0 | AB37: 日） | AD37: ・・・・ | AG37: ③” | AJ37: ②” | AL37: × | AN37: ③” | AP37: ＝ | AR37: =IF(E37="","",E37*Y37) -> 0 | AY37: 円
B39: （５） 支給額の決定
F40: 支給対象日数 | S40: 給付日額① | AA40: 支給対象日数④ | AK40: 控除額⑤ | AU40: 給付額
F42: ２０日 | K42: の場合 | R42: （ | S42: =U31 -> 0 | X42: 円 | Z42: × | AB42: =Y34 -> 0 | AG42: 日 | AH42: ） | AI42: － | AJ42: =AR34 -> 0 | AQ42: 円 | AR42: ＝ | AT42: =IF(S42*AB42-AJ42<=0,0,S42*AB42-AJ42) -> 0 | BB42: 円
F44: ２１日 | K44: の場合 | R44: （ | S44: =U31 -> 0 | X44: 円 | Z44: × | AB44: =Y35 -> 0 | AG44: 日 | AH44: ） | AI44: － | AJ44: =AR35 -> 0 | AQ44: 円 | AR44: ＝ | AT44: =IF(S44*AB44-AJ44<=0,0,S44*AB44-AJ44) -> 0 | BB44: 円
F46: ２２日 | K46: の場合 | R46: （ | S46: =U31 -> 0 | X46: 円 | Z46: × | AB46: =Y36 -> 0 | AG46: 日 | AH46: ） | AI46: － | AJ46: =AR36 -> 0 | AQ46: 円 | AR46: ＝ | AT46: =IF(S46*AB46-AJ46<=0,0,S46*AB46-AJ46) -> 0 | BB46: 円
F48: ２３日 | K48: の場合 | R48: （ | S48: =U31 -> 0 | X48: 円 | Z48: × | AB48: =Y37 -> 0 | AG48: 日 | AH48: ） | AI48: － | AJ48: =AR37 -> 0 | AQ48: 円 | AR48: ＝ | AT48: =IF(S48*AB48-AJ48<=0,0,S48*AB48-AJ48) -> 0 | BB48: 円
CS51: =IF(#REF!="","",SUM(BH31:BL33)) -> #REF!
